BEGIN:VCALENDAR
VERSION:2.0
PRODID:-//wp-events-plugin.com//7.2.3.1//EN
TZID:America/New_York
X-WR-TIMEZONE:America/New_York
BEGIN:VEVENT
UID:23236@southfloridacountrymusic.com
DTSTART;TZID=America/New_York;VALUE=DATE:20260725
DTEND;TZID=America/New_York;VALUE=DATE:20260726
DTSTAMP:20260408T164152Z
URL:https://www.southfloridacountrymusic.com/events/cody-johnson-jacksonvi
 lle/
SUMMARY:Cody Johnson\, Randy Houser\, Annie Bosko - Jacksonville
DESCRIPTION:
ATTACH;FMTTYPE=image/jpeg:https://www.southfloridacountrymusic.com/wp-cont
 ent/uploads/2026/01/0725-Cody-Johnson.jpg
CATEGORIES:Concerts
LOCATION:Jacksonville Veterans Memorial Arena\, 300 A Philip Randolph Blvd\
 , Jacksonville\, FL\, 32202\, United States
X-APPLE-STRUCTURED-LOCATION;VALUE=URI;X-ADDRESS=300 A Philip Randolph Blvd\
 , Jacksonville\, FL\, 32202\, United States;X-APPLE-RADIUS=100;X-TITLE=Jac
 ksonville Veterans Memorial Arena:geo:0,0
END:VEVENT
BEGIN:VTIMEZONE
TZID:America/New_York
X-LIC-LOCATION:America/New_York
BEGIN:DAYLIGHT
DTSTART:20260308T030000
TZOFFSETFROM:-0500
TZOFFSETTO:-0400
TZNAME:EDT
END:DAYLIGHT
END:VTIMEZONE
END:VCALENDAR