BEGIN:VCALENDAR
VERSION:2.0
PRODID:-//wp-events-plugin.com//7.2.3.1//EN
TZID:America/New_York
X-WR-TIMEZONE:America/New_York
BEGIN:VEVENT
UID:23238@southfloridacountrymusic.com
DTSTART;TZID=America/New_York;VALUE=DATE:20260613
DTEND;TZID=America/New_York;VALUE=DATE:20260614
DTSTAMP:20260114T025704Z
URL:https://www.southfloridacountrymusic.com/events/chris-stapleton-lainey
 -wilson-allen-stone-tampa/
SUMMARY:Chris Stapleton\, Lainey Wilson\, Allen Stone - Tampa
DESCRIPTION:
ATTACH;FMTTYPE=image/jpeg:https://www.southfloridacountrymusic.com/wp-cont
 ent/uploads/2026/01/0613-Chris-Stapleton.jpg
CATEGORIES:Concerts
LOCATION:Raymond James Stadium\, 4201 N Dale Mabry Hwy\, Tampa\, FL\, 33607
 \, United States
GEO:27.97871;-82.50297799999998
X-APPLE-STRUCTURED-LOCATION;VALUE=URI;X-ADDRESS=4201 N Dale Mabry Hwy\, Tam
 pa\, FL\, 33607\, United States;X-APPLE-RADIUS=100;X-TITLE=Raymond James S
 tadium:geo:27.97871,-82.50297799999998
END:VEVENT
BEGIN:VTIMEZONE
TZID:America/New_York
X-LIC-LOCATION:America/New_York
BEGIN:DAYLIGHT
DTSTART:20260308T030000
TZOFFSETFROM:-0500
TZOFFSETTO:-0400
TZNAME:EDT
END:DAYLIGHT
END:VTIMEZONE
END:VCALENDAR