BEGIN:VCALENDAR
VERSION:2.0
PRODID:-//wp-events-plugin.com//7.2.3.1//EN
TZID:America/New_York
X-WR-TIMEZONE:America/New_York
BEGIN:VEVENT
UID:23251@southfloridacountrymusic.com
DTSTART;TZID=America/New_York:20260130T193000
DTEND;TZID=America/New_York:20260130T193000
DTSTAMP:20260117T174724Z
URL:https://www.southfloridacountrymusic.com/events/bryan-white-west-palm-
 beach/
SUMMARY:Bryan White - West Palm Beach
DESCRIPTION:
ATTACH;FMTTYPE=image/jpeg:https://www.southfloridacountrymusic.com/wp-cont
 ent/uploads/2026/01/0130-Bryan-White.jpg
CATEGORIES:Concerts
LOCATION:South Florida Fair\, 9067 Southern Blvd\, West Palm Beach\, FL\, 3
 3411\, United States
GEO:26.6817038;-80.18919399999999
X-APPLE-STRUCTURED-LOCATION;VALUE=URI;X-ADDRESS=9067 Southern Blvd\, West P
 alm Beach\, FL\, 33411\, United States;X-APPLE-RADIUS=100;X-TITLE=South Fl
 orida Fair:geo:26.6817038,-80.18919399999999
END:VEVENT
BEGIN:VTIMEZONE
TZID:America/New_York
X-LIC-LOCATION:America/New_York
BEGIN:STANDARD
DTSTART:20251102T010000
TZOFFSETFROM:-0400
TZOFFSETTO:-0500
TZNAME:EST
END:STANDARD
END:VTIMEZONE
END:VCALENDAR