BEGIN:VCALENDAR
VERSION:2.0
PRODID:-//wp-events-plugin.com//7.2.3.1//EN
TZID:America/New_York
X-WR-TIMEZONE:America/New_York
BEGIN:VEVENT
UID:23301@southfloridacountrymusic.com
DTSTART;TZID=America/New_York:20260214T140000
DTEND;TZID=America/New_York:20260214T140000
DTSTAMP:20260204T174228Z
URL:https://www.southfloridacountrymusic.com/events/bryan-k-buchanan-cresc
 ent-city/
SUMMARY:Bryan K Buchanan - Crescent City
DESCRIPTION:
ATTACH;FMTTYPE=image/jpeg:https://www.southfloridacountrymusic.com/wp-cont
 ent/uploads/2026/02/0214-Bryan-K-Buchanan.jpg
CATEGORIES:Live Local Music
LOCATION:The Oaks Golf Club\, 1264 County Rd 309\, Crescent City\, FL\, Uni
 ted States
X-APPLE-STRUCTURED-LOCATION;VALUE=URI;X-ADDRESS=1264 County Rd 309\, Cresce
 nt City\, FL\, United States;X-APPLE-RADIUS=100;X-TITLE=The Oaks Golf Club
 :geo:0,0
END:VEVENT
BEGIN:VTIMEZONE
TZID:America/New_York
X-LIC-LOCATION:America/New_York
BEGIN:STANDARD
DTSTART:20251102T010000
TZOFFSETFROM:-0400
TZOFFSETTO:-0500
TZNAME:EST
END:STANDARD
END:VTIMEZONE
END:VCALENDAR