BEGIN:VCALENDAR
VERSION:2.0
PRODID:-//wp-events-plugin.com//7.2.3.1//EN
TZID:America/New_York
X-WR-TIMEZONE:America/New_York
BEGIN:VEVENT
UID:23340@southfloridacountrymusic.com
DTSTART;TZID=America/New_York:20260220T180000
DTEND;TZID=America/New_York:20260220T180000
DTSTAMP:20260213T195109Z
URL:https://www.southfloridacountrymusic.com/events/bryan-james-orlando-7/
SUMMARY:Bryan James - Orlando
DESCRIPTION:
ATTACH;FMTTYPE=image/jpeg:https://www.southfloridacountrymusic.com/wp-cont
 ent/uploads/2026/02/0220-Bryan-James.jpg
CATEGORIES:Live Local Music
LOCATION:Ole Red - Orlando\, 8417 International Dr\, Orlando\, FL\, 32819\,
  United States
X-APPLE-STRUCTURED-LOCATION;VALUE=URI;X-ADDRESS=8417 International Dr\, Orl
 ando\, FL\, 32819\, United States;X-APPLE-RADIUS=100;X-TITLE=Ole Red - Orl
 ando:geo:0,0
END:VEVENT
BEGIN:VTIMEZONE
TZID:America/New_York
X-LIC-LOCATION:America/New_York
BEGIN:STANDARD
DTSTART:20251102T010000
TZOFFSETFROM:-0400
TZOFFSETTO:-0500
TZNAME:EST
END:STANDARD
END:VTIMEZONE
END:VCALENDAR