BEGIN:VCALENDAR
VERSION:2.0
PRODID:-//wp-events-plugin.com//7.2.3.1//EN
TZID:America/New_York
X-WR-TIMEZONE:America/New_York
BEGIN:VEVENT
UID:22349@southfloridacountrymusic.com
DTSTART;TZID=America/New_York:20260226T190000
DTEND;TZID=America/New_York:20260226T190000
DTSTAMP:20251208T180405Z
URL:https://www.southfloridacountrymusic.com/events/brantley-gilbert-travi
 s-denning-austin-snell-pensacola-2/
SUMMARY:Brantley Gilbert\, Travis Denning\, Austin Snell - Pensacola
DESCRIPTION:
ATTACH;FMTTYPE=image/jpeg:https://www.southfloridacountrymusic.com/wp-cont
 ent/uploads/2014/04/IMG_5847.jpg
CATEGORIES:Concerts
LOCATION:Pensacola Bay Center\, 201 E Gregory St\, Pensacola\, FL\, United 
 States
GEO:30.4164053;-87.2089072
X-APPLE-STRUCTURED-LOCATION;VALUE=URI;X-ADDRESS=201 E Gregory St\, Pensacol
 a\, FL\, United States;X-APPLE-RADIUS=100;X-TITLE=Pensacola Bay Center:geo
 :30.4164053,-87.2089072
END:VEVENT
BEGIN:VTIMEZONE
TZID:America/New_York
X-LIC-LOCATION:America/New_York
BEGIN:STANDARD
DTSTART:20251102T010000
TZOFFSETFROM:-0400
TZOFFSETTO:-0500
TZNAME:EST
END:STANDARD
END:VTIMEZONE
END:VCALENDAR