BEGIN:VCALENDAR
VERSION:2.0
PRODID:-//wp-events-plugin.com//7.2.3.1//EN
TZID:America/New_York
X-WR-TIMEZONE:America/New_York
BEGIN:VEVENT
UID:21853@southfloridacountrymusic.com
DTSTART;TZID=America/New_York:20260227T190000
DTEND;TZID=America/New_York:20260227T190000
DTSTAMP:20250602T165024Z
URL:https://www.southfloridacountrymusic.com/events/brantley-gilbert-travi
 s-denning-austin-snell-jacksonville-2/
SUMMARY:Brantley Gilbert\, Travis Denning\, Austin Snell - Jacksonville
DESCRIPTION:
ATTACH;FMTTYPE=image/jpeg:https://www.southfloridacountrymusic.com/wp-cont
 ent/uploads/2014/04/IMG_5847.jpg
CATEGORIES:Concerts
LOCATION:Jacksonville Veterans Memorial Arena\, 300 A Philip Randolph Blvd\
 , Jacksonville\, FL\, 32202\, United States
GEO:30.325811;-81.645058
X-APPLE-STRUCTURED-LOCATION;VALUE=URI;X-ADDRESS=300 A Philip Randolph Blvd\
 , Jacksonville\, FL\, 32202\, United States;X-APPLE-RADIUS=100;X-TITLE=Jac
 ksonville Veterans Memorial Arena:geo:30.325811,-81.645058
END:VEVENT
BEGIN:VTIMEZONE
TZID:America/New_York
X-LIC-LOCATION:America/New_York
BEGIN:STANDARD
DTSTART:20251102T010000
TZOFFSETFROM:-0400
TZOFFSETTO:-0500
TZNAME:EST
END:STANDARD
END:VTIMEZONE
END:VCALENDAR