BEGIN:VCALENDAR
VERSION:2.0
PRODID:-//wp-events-plugin.com//7.2.3.1//EN
TZID:America/New_York
X-WR-TIMEZONE:America/New_York
BEGIN:VEVENT
UID:22359@southfloridacountrymusic.com
DTSTART;TZID=America/New_York;VALUE=DATE:20260117
DTEND;TZID=America/New_York;VALUE=DATE:20260118
DTSTAMP:20251210T014811Z
URL:https://www.southfloridacountrymusic.com/events/boots-roots-country-mu
 sic-festival-punta-gorda-2/
SUMMARY:Boots & Roots Country Music Festival - Punta Gorda
DESCRIPTION:
ATTACH;FMTTYPE=image/jpeg:https://www.southfloridacountrymusic.com/wp-cont
 ent/uploads/2025/12/0116-0117-Boots-and-Roots.jpg
CATEGORIES:Concerts,Events,Festivals
LOCATION:Babcock Ranch\, 42850 Crescent Loop\, Punta Gorda\, FL\, 33982\, U
 nited States
GEO:26.7836681;-81.74719290000002
X-APPLE-STRUCTURED-LOCATION;VALUE=URI;X-ADDRESS=42850 Crescent Loop\, Punta
  Gorda\, FL\, 33982\, United States;X-APPLE-RADIUS=100;X-TITLE=Babcock Ran
 ch:geo:26.7836681,-81.74719290000002
END:VEVENT
BEGIN:VTIMEZONE
TZID:America/New_York
X-LIC-LOCATION:America/New_York
BEGIN:STANDARD
DTSTART:20251102T010000
TZOFFSETFROM:-0400
TZOFFSETTO:-0500
TZNAME:EST
END:STANDARD
END:VTIMEZONE
END:VCALENDAR