BEGIN:VCALENDAR
VERSION:2.0
PRODID:-//wp-events-plugin.com//7.2.3.1//EN
TZID:America/New_York
X-WR-TIMEZONE:America/New_York
BEGIN:VEVENT
UID:23229@southfloridacountrymusic.com
DTSTART;TZID=America/New_York:20260312T190000
DTEND;TZID=America/New_York:20260312T190000
DTSTAMP:20260113T042203Z
URL:https://www.southfloridacountrymusic.com/events/andy-griggs-north-fort
 -myers/
SUMMARY:Andy Griggs - North Fort Myers
DESCRIPTION:
ATTACH;FMTTYPE=image/jpeg:https://www.southfloridacountrymusic.com/wp-cont
 ent/uploads/2026/01/0312-Andy-Griggs.jpg
CATEGORIES:Concerts
LOCATION:Sea-Craft Waterfront Tiki\, 3440 Marinatown Lane\, North Fort Myer
 s\, FL\, 33903\, United States
X-APPLE-STRUCTURED-LOCATION;VALUE=URI;X-ADDRESS=3440 Marinatown Lane\, Nort
 h Fort Myers\, FL\, 33903\, United States;X-APPLE-RADIUS=100;X-TITLE=Sea-C
 raft Waterfront Tiki:geo:0,0
END:VEVENT
BEGIN:VTIMEZONE
TZID:America/New_York
X-LIC-LOCATION:America/New_York
BEGIN:DAYLIGHT
DTSTART:20260308T030000
TZOFFSETFROM:-0500
TZOFFSETTO:-0400
TZNAME:EDT
END:DAYLIGHT
END:VTIMEZONE
END:VCALENDAR