BEGIN:VCALENDAR
VERSION:2.0
PRODID:-//wp-events-plugin.com//7.2.3.1//EN
TZID:America/New_York
X-WR-TIMEZONE:America/New_York
BEGIN:VEVENT
UID:22214@southfloridacountrymusic.com
DTSTART;TZID=America/New_York:20260128T200000
DTEND;TZID=America/New_York:20260128T200000
DTSTAMP:20251021T164900Z
URL:https://www.southfloridacountrymusic.com/events/aaron-lewis-the-statel
 iners-tampa-2/
SUMMARY:Aaron Lewis & The Stateliners - Tampa
DESCRIPTION:
ATTACH;FMTTYPE=image/jpeg:https://www.southfloridacountrymusic.com/wp-cont
 ent/uploads/2025/10/0127-0128-Aaron-Lewis.jpg
CATEGORIES:Concerts
LOCATION:Hard Rock Event Center\, 5223 N Orient Rd\, Tampa\, FL\, 33611\, U
 nited States
X-APPLE-STRUCTURED-LOCATION;VALUE=URI;X-ADDRESS=5223 N Orient Rd\, Tampa\, 
 FL\, 33611\, United States;X-APPLE-RADIUS=100;X-TITLE=Hard Rock Event Cent
 er:geo:0,0
END:VEVENT
BEGIN:VTIMEZONE
TZID:America/New_York
X-LIC-LOCATION:America/New_York
BEGIN:STANDARD
DTSTART:20251102T010000
TZOFFSETFROM:-0400
TZOFFSETTO:-0500
TZNAME:EST
END:STANDARD
END:VTIMEZONE
END:VCALENDAR